BEGIN:VCALENDAR
VERSION:2.0
PRODID:-//Pacific Education Institute - ECPv6.15.20//NONSGML v1.0//EN
CALSCALE:GREGORIAN
METHOD:PUBLISH
X-ORIGINAL-URL:https://pacificeducationinstitute.org
X-WR-CALDESC:Events for Pacific Education Institute
REFRESH-INTERVAL;VALUE=DURATION:PT1H
X-Robots-Tag:noindex
X-PUBLISHED-TTL:PT1H
BEGIN:VTIMEZONE
TZID:America/Los_Angeles
BEGIN:DAYLIGHT
TZOFFSETFROM:-0800
TZOFFSETTO:-0700
TZNAME:PDT
DTSTART:20200308T100000
END:DAYLIGHT
BEGIN:STANDARD
TZOFFSETFROM:-0700
TZOFFSETTO:-0800
TZNAME:PST
DTSTART:20201101T090000
END:STANDARD
BEGIN:DAYLIGHT
TZOFFSETFROM:-0800
TZOFFSETTO:-0700
TZNAME:PDT
DTSTART:20210314T100000
END:DAYLIGHT
BEGIN:STANDARD
TZOFFSETFROM:-0700
TZOFFSETTO:-0800
TZNAME:PST
DTSTART:20211107T090000
END:STANDARD
BEGIN:DAYLIGHT
TZOFFSETFROM:-0800
TZOFFSETTO:-0700
TZNAME:PDT
DTSTART:20220313T100000
END:DAYLIGHT
BEGIN:STANDARD
TZOFFSETFROM:-0700
TZOFFSETTO:-0800
TZNAME:PST
DTSTART:20221106T090000
END:STANDARD
END:VTIMEZONE
BEGIN:VEVENT
DTSTART;TZID=America/Los_Angeles:20211102T153000
DTEND;TZID=America/Los_Angeles:20211102T173000
DTSTAMP:20260421T165559
CREATED:20211026T162844Z
LAST-MODIFIED:20211026T163004Z
UID:5675-1635867000-1635874200@pacificeducationinstitute.org
SUMMARY:FieldSTEM
DESCRIPTION:Urban Forests and Field Design 6-12 for On Track Academy & Shaw Middle School\n(private event) \nAre you interested in learning about a framework that develops your students ability to think critically and problem-solve through hands-on locally relevant activities related to urban forests? \nJoin Pacific Education Institute in this customized workshop using FieldDesign: Engineering Design for Field-Based Applications 6-12 and Project Learning Tree’s Discover Your Urban Forestry activities. \nFieldDesign is a framework to engage students in engineering practices around real-world problems. Students research and analyze situations on the school grounds\, at home\, or in their communities to give engineering design a more meaningful context. In this virtual workshop\, educators dive in to the FieldDesign framework and\, with support\, collaboratively plan for implementation of an urban forestry project. \nThis workshop consists of synchronous and asynchronous sessions: \n\nTuesday\, November 2\, 2021\, 3:45 PM to 5:45 PM (approx. 2 hours)\nAsynchronous work (approx. 1 hour)\nThursday\, November 4\, 2021\, 3:45 PM to 5:45 PM (approx. 2 hours)\n\nParticipants who attend both sessions and complete all associated work will receive: \n\n5 Washington state approved STEM clock hours\n$75 participation stipend
URL:https://pacificeducationinstitute.org/event/5675/2021-11-02/
CATEGORIES:Eastern Washington,Online
ORGANIZER;CN="Pacific Education Institute":MAILTO:info@pacificeducationinstitute.org
END:VEVENT
END:VCALENDAR