BEGIN:VCALENDAR
VERSION:2.0
PRODID:-//Pacific Education Institute - ECPv6.15.20//NONSGML v1.0//EN
CALSCALE:GREGORIAN
METHOD:PUBLISH
X-ORIGINAL-URL:https://pacificeducationinstitute.org
X-WR-CALDESC:Events for Pacific Education Institute
REFRESH-INTERVAL;VALUE=DURATION:PT1H
X-Robots-Tag:noindex
X-PUBLISHED-TTL:PT1H
BEGIN:VTIMEZONE
TZID:America/Los_Angeles
BEGIN:DAYLIGHT
TZOFFSETFROM:-0800
TZOFFSETTO:-0700
TZNAME:PDT
DTSTART:20200308T100000
END:DAYLIGHT
BEGIN:STANDARD
TZOFFSETFROM:-0700
TZOFFSETTO:-0800
TZNAME:PST
DTSTART:20201101T090000
END:STANDARD
BEGIN:DAYLIGHT
TZOFFSETFROM:-0800
TZOFFSETTO:-0700
TZNAME:PDT
DTSTART:20210314T100000
END:DAYLIGHT
BEGIN:STANDARD
TZOFFSETFROM:-0700
TZOFFSETTO:-0800
TZNAME:PST
DTSTART:20211107T090000
END:STANDARD
BEGIN:DAYLIGHT
TZOFFSETFROM:-0800
TZOFFSETTO:-0700
TZNAME:PDT
DTSTART:20220313T100000
END:DAYLIGHT
BEGIN:STANDARD
TZOFFSETFROM:-0700
TZOFFSETTO:-0800
TZNAME:PST
DTSTART:20221106T090000
END:STANDARD
END:VTIMEZONE
BEGIN:VEVENT
DTSTART;TZID=America/Los_Angeles:20210303T160000
DTEND;TZID=America/Los_Angeles:20210303T183000
DTSTAMP:20260419T081117
CREATED:20210120T174721Z
LAST-MODIFIED:20210128T220732Z
UID:4359-1614787200-1614796200@pacificeducationinstitute.org
SUMMARY:FieldSTEM + PLT
DESCRIPTION:Making Forest Connections for Grades K-8 \nAttention all Washington State K-8 Educators! \nJoin Pacific Education Institute FieldSTEM Coordinators Karen Lippy and Molly Griffiths in an online workshop designed to help K-8 educators increase their knowledge\, skills and tools to create impactful science learning opportunities for students in their schoolyard or at home using the Washington Forest Education K-12 Learning Framework and PEI’s Making Forestry Connections online guides. Participants will also receive a physical copy of Project Learning Tree: PreK-8 Environmental Education Activity Guide.*  \nThe workshop will be a blended experience including an online Zoom element and self-paced learning: \n\nSynchronous: Wednesday\, March 3\, 2021\, 4 PM to 6:30 PM (2.5 hours)\nSynchronous: Thursday\, March 4\, 2021\, 4 PM to 6:30 PM (2.5 hours)\nAsynchronous: Create your own Forest Connections implementation plan by March 12 (approx. 1 hour)\n\nParticipants who complete all asynchronous work and participate in both synchronous sessions will receive: \n\n6 Washington State Approved STEM clock hours\n$75 participation stipend\n\nParticipants will: \n\nReceive hands-on experience with PLT activities and various Pacific Education Institute resources\nIdentify activities that align with their K-8 grade-level learning standards\nExplore strategies to successfully use outdoor spaces at school or at home for locally-relevant learning\n\nNote: This workshop is open to K-8 Washington State educators. \n*The Project Learning Tree: PreK-8 Environmental Education Activity Guide is provided and will be mailed to you prior to the workshop. Registration will close on February 22\, so guides can be mailed out in time.
URL:https://pacificeducationinstitute.org/event/fieldstem-plt/2021-03-03/
CATEGORIES:Online
ORGANIZER;CN="Pacific Education Institute":MAILTO:info@pacificeducationinstitute.org
END:VEVENT
END:VCALENDAR