BEGIN:VCALENDAR
VERSION:2.0
PRODID:-//Pacific Education Institute - ECPv6.15.20//NONSGML v1.0//EN
CALSCALE:GREGORIAN
METHOD:PUBLISH
X-ORIGINAL-URL:https://pacificeducationinstitute.org
X-WR-CALDESC:Events for Pacific Education Institute
REFRESH-INTERVAL;VALUE=DURATION:PT1H
X-Robots-Tag:noindex
X-PUBLISHED-TTL:PT1H
BEGIN:VTIMEZONE
TZID:America/Los_Angeles
BEGIN:DAYLIGHT
TZOFFSETFROM:-0800
TZOFFSETTO:-0700
TZNAME:PDT
DTSTART:20180311T100000
END:DAYLIGHT
BEGIN:STANDARD
TZOFFSETFROM:-0700
TZOFFSETTO:-0800
TZNAME:PST
DTSTART:20181104T090000
END:STANDARD
BEGIN:DAYLIGHT
TZOFFSETFROM:-0800
TZOFFSETTO:-0700
TZNAME:PDT
DTSTART:20190310T100000
END:DAYLIGHT
BEGIN:STANDARD
TZOFFSETFROM:-0700
TZOFFSETTO:-0800
TZNAME:PST
DTSTART:20191103T090000
END:STANDARD
BEGIN:DAYLIGHT
TZOFFSETFROM:-0800
TZOFFSETTO:-0700
TZNAME:PDT
DTSTART:20200308T100000
END:DAYLIGHT
BEGIN:STANDARD
TZOFFSETFROM:-0700
TZOFFSETTO:-0800
TZNAME:PST
DTSTART:20201101T090000
END:STANDARD
END:VTIMEZONE
BEGIN:VEVENT
DTSTART;VALUE=DATE:20191115
DTEND;VALUE=DATE:20191116
DTSTAMP:20260420T180905
CREATED:20191108T003317Z
LAST-MODIFIED:20191108T003328Z
UID:3238-1573776000-1573862399@pacificeducationinstitute.org
SUMMARY:Salish Sea Equity & Justice Symposium: Seattle
DESCRIPTION:All PEI staff will attend this symposium on the topic of centering historically underrepresented voices to foster just and collective change within the environmental field.
URL:https://pacificeducationinstitute.org/event/salish-sea-equity-justice-symposium-seattle/
LOCATION:University of Seattle\, 4249 Whitman Ct NE\, Seattle\, WA\, 98105\, United States
CATEGORIES:Special Event
END:VEVENT
END:VCALENDAR